BEGIN:VCALENDAR
VERSION:2.0
PRODID:http://www.stadt-koeln.de/
CALSCALE:GREGORIAN
METHOD:PUBLISH
BEGIN:VTIMEZONE
TZID:Europe/Berlin
X-LIC-LOCATION:Europe/Berlin
BEGIN:DAYLIGHT
TZOFFSETFROM:+0100
TZOFFSETTO:+0200
TZNAME:CEST
DTSTART:19700329T020000
RRULE:FREQ=YEARLY;INTERVAL=1;BYDAY=-1SU;BYMONTH=3
END:DAYLIGHT
BEGIN:STANDARD
TZOFFSETFROM:+0200
TZOFFSETTO:+0100
TZNAME:CET
DTSTART:19701025T030000
RRULE:FREQ=YEARLY;INTERVAL=1;BYDAY=-1SU;BYMONTH=10
END:STANDARD
END:VTIMEZONE
BEGIN:VEVENT
DTSTART;TZID=Europe/Berlin;VALUE=DATE:20251112T100000
DTEND;TZID=Europe/Berlin;VALUE=DATE:20251112T140000
SUMMARY;LANGUAGE=de;ENCODING=QUOTED-PRINTABLE:Schule der Zukunft 3.0 – Exkursion zur Siebengebirgsschule Bonn
LOCATION:Siebengebirgsschule Bonn Förderschule im Verbund Lernen, emotionale-soziale Entwicklung und Sprache, Winterstraße 53, 53177 Bonn
UID:
DTSTAMP:20260425T211710
END:VEVENT
END:VCALENDAR
