BEGIN:VCALENDAR
VERSION:2.0
PRODID:http://www.stadt-koeln.de/
CALSCALE:GREGORIAN
METHOD:PUBLISH
BEGIN:VTIMEZONE
TZID:Europe/Berlin
X-LIC-LOCATION:Europe/Berlin
BEGIN:DAYLIGHT
TZOFFSETFROM:+0100
TZOFFSETTO:+0200
TZNAME:CEST
DTSTART:19700329T020000
RRULE:FREQ=YEARLY;INTERVAL=1;BYDAY=-1SU;BYMONTH=3
END:DAYLIGHT
BEGIN:STANDARD
TZOFFSETFROM:+0200
TZOFFSETTO:+0100
TZNAME:CET
DTSTART:19701025T030000
RRULE:FREQ=YEARLY;INTERVAL=1;BYDAY=-1SU;BYMONTH=10
END:STANDARD
END:VTIMEZONE
BEGIN:VEVENT
DTSTART;TZID=Europe/Berlin;VALUE=DATE:20230926T180000
DTEND;TZID=Europe/Berlin;VALUE=DATE:20230926T193000
SUMMARY;LANGUAGE=de;ENCODING=QUOTED-PRINTABLE:Ansprechpartner*in und Wegbereiter*in für Menschen mit fortgeschrittener, nicht heilbarer Erkrankung – das Buddy-Projekt
LOCATION:Kölner VHS-Forum im Museum am Neumarkt, Cäcilienstraße  29-33, 50667 Köln
UID:
DTSTAMP:20260419T235742
END:VEVENT
END:VCALENDAR
